BEGIN:VCALENDAR
VERSION:2.0
PRODID:-//Cville Dems - ECPv6.15.20//NONSGML v1.0//EN
CALSCALE:GREGORIAN
METHOD:PUBLISH
X-ORIGINAL-URL:https://cvilledems.org
X-WR-CALDESC:Events for Cville Dems
REFRESH-INTERVAL;VALUE=DURATION:PT1H
X-Robots-Tag:noindex
X-PUBLISHED-TTL:PT1H
BEGIN:VTIMEZONE
TZID:America/New_York
BEGIN:DAYLIGHT
TZOFFSETFROM:-0500
TZOFFSETTO:-0400
TZNAME:EDT
DTSTART:20220313T070000
END:DAYLIGHT
BEGIN:STANDARD
TZOFFSETFROM:-0400
TZOFFSETTO:-0500
TZNAME:EST
DTSTART:20221106T060000
END:STANDARD
BEGIN:DAYLIGHT
TZOFFSETFROM:-0500
TZOFFSETTO:-0400
TZNAME:EDT
DTSTART:20230312T070000
END:DAYLIGHT
BEGIN:STANDARD
TZOFFSETFROM:-0400
TZOFFSETTO:-0500
TZNAME:EST
DTSTART:20231105T060000
END:STANDARD
BEGIN:DAYLIGHT
TZOFFSETFROM:-0500
TZOFFSETTO:-0400
TZNAME:EDT
DTSTART:20240310T070000
END:DAYLIGHT
BEGIN:STANDARD
TZOFFSETFROM:-0400
TZOFFSETTO:-0500
TZNAME:EST
DTSTART:20241103T060000
END:STANDARD
END:VTIMEZONE
BEGIN:VEVENT
DTSTART;TZID=America/New_York:20230930T170000
DTEND;TZID=America/New_York:20230930T220000
DTSTAMP:20260419T110949
CREATED:20230225T010027Z
LAST-MODIFIED:20230225T010027Z
UID:5962-1696093200-1696111200@cvilledems.org
SUMMARY:The Forward Fifth 2023 Extravaganza (9/30/2023)
DESCRIPTION:Final details still being worked out (we’ll announce them when we know more)\, but save the date!
URL:https://cvilledems.org/event/the-forward-fifth-2023-extravaganza-9-30-2023/
LOCATION:University of Lynchburg\, 1501 Lakeside Dr.\, Lynchburg\, VA\, 24501\, United States
CATEGORIES:5th District
ATTACH;FMTTYPE=image/jpeg:https://cvilledems.org/wp-content/uploads/2023/02/2023-5th-District-Extravaganza.jpg
ORGANIZER;CN="5th Congressional District Democrats":MAILTO:5thcdchair.vadems@gmail.com
END:VEVENT
END:VCALENDAR