BEGIN:VCALENDAR
VERSION:2.0
PRODID:-//Cville Dems - ECPv6.15.20//NONSGML v1.0//EN
CALSCALE:GREGORIAN
METHOD:PUBLISH
X-WR-CALNAME:Cville Dems
X-ORIGINAL-URL:https://cvilledems.org
X-WR-CALDESC:Events for Cville Dems
REFRESH-INTERVAL;VALUE=DURATION:PT1H
X-Robots-Tag:noindex
X-PUBLISHED-TTL:PT1H
BEGIN:VTIMEZONE
TZID:America/New_York
BEGIN:DAYLIGHT
TZOFFSETFROM:-0500
TZOFFSETTO:-0400
TZNAME:EDT
DTSTART:20230312T070000
END:DAYLIGHT
BEGIN:STANDARD
TZOFFSETFROM:-0400
TZOFFSETTO:-0500
TZNAME:EST
DTSTART:20231105T060000
END:STANDARD
BEGIN:DAYLIGHT
TZOFFSETFROM:-0500
TZOFFSETTO:-0400
TZNAME:EDT
DTSTART:20240310T070000
END:DAYLIGHT
BEGIN:STANDARD
TZOFFSETFROM:-0400
TZOFFSETTO:-0500
TZNAME:EST
DTSTART:20241103T060000
END:STANDARD
BEGIN:DAYLIGHT
TZOFFSETFROM:-0500
TZOFFSETTO:-0400
TZNAME:EDT
DTSTART:20250309T070000
END:DAYLIGHT
BEGIN:STANDARD
TZOFFSETFROM:-0400
TZOFFSETTO:-0500
TZNAME:EST
DTSTART:20251102T060000
END:STANDARD
END:VTIMEZONE
BEGIN:VEVENT
DTSTART;TZID=America/New_York:20241208T173000
DTEND;TZID=America/New_York:20241208T190000
DTSTAMP:20260419T091538
CREATED:20241205T223424Z
LAST-MODIFIED:20241205T223424Z
UID:8419-1733679000-1733684400@cvilledems.org
SUMMARY:Fundraiser for Amy Laufer\, Running for VA-55 (12/8)
DESCRIPTION:Screenshot\nPlease join Delegate Amy Laufer and invited guests\, including Senator Creigh Deeds\, Delegate Katrina Callsen\, and Delegate candidates Kimberley Pope Adams and Lily Franklin\, for a fundraiser on Sunday\, Dec. 8\, 5:30-7:00pm\, at Vivace Restaurant\, 2244 Ivy Road\, Charlottesville. Amy is running for re-election in the 2023 Virginia House of Delegates from our neighboring district\, Virginia’s 55th House District. \nTickets can be purchased at: https://secure.actblue.com/donate/1282024vivacifr
URL:https://cvilledems.org/event/fundraiser-for-amy-laufer-running-for-va-55-12-8/
LOCATION:Vivace’s Restaurant\, 2244 Ivy Road\, Charlottesville\, VA\, 22903
CATEGORIES:Fundraiser
ATTACH;FMTTYPE=image/jpeg:https://cvilledems.org/wp-content/uploads/2024/12/AmyLaufer-Fundraiser-20241208.jpg
END:VEVENT
BEGIN:VEVENT
DTSTART;TZID=America/New_York:20241013T150000
DTEND;TZID=America/New_York:20241013T180000
DTSTAMP:20260419T091538
CREATED:20241011T210057Z
LAST-MODIFIED:20241011T191951Z
UID:8309-1728831600-1728842400@cvilledems.org
SUMMARY:Albemarle Dems BBQ Fundraiser is Oct. 13!
DESCRIPTION:Come out and support our Albemarle Dem friends at their annual BBQ on Sunday\, October 13 from 3-6pm at Pen Park (Shelters #2+#3). You’ll get to hear a keynote speech from Khizr Khan and rub elbows with Gloria Witt\, Senator Creigh Deeds\, Delegates Amy Laufer and Katrina Callsen\, and School Board candidate Chuck Pace. A good time will be had!
URL:https://cvilledems.org/event/albemarle-dems-bbq-fundraiser-is-oct-13/
LOCATION:Pen Park\, 1300 Pen Park Road\, Charlottesville\, 22901\, United States
CATEGORIES:Albemarle Dems,Fundraiser
ATTACH;FMTTYPE=image/jpeg:https://cvilledems.org/wp-content/uploads/2024/09/2024-BBQ_final.jpg
END:VEVENT
BEGIN:VEVENT
DTSTART;TZID=America/New_York:20240928T150000
DTEND;TZID=America/New_York:20240928T180000
DTSTAMP:20260419T091538
CREATED:20240912T134949Z
LAST-MODIFIED:20240912T135604Z
UID:8219-1727535600-1727546400@cvilledems.org
SUMMARY:Move for Kamala: Fundraiser for Harris/Walz in 3 Movements
DESCRIPTION:Three movement instructors are getting together in Earlysville on Saturday September 28\, 3-6pm\, to do a 3-hour fundraiser for Vice President Kamala Harris and Gov. Tim Walz. A donation ($47 is suggested\, because Kamala will be our 47th President!) gets you a place on the dance/exercise floor! \nThe dance card is: \n\nSalsa with Julie Boyer\nDance Cardio with Atticus Gore\nNourishing Movement with Susan McCulley\n\n 
URL:https://cvilledems.org/event/move-for-kamala/
LOCATION:Earlysville Spaces\, 690 Bent Oak Dr.\, Charlottesville\, VA\, 22936\, United States
CATEGORIES:Fundraiser
ORGANIZER;CN="Susan McCulley / Julie Boyer / Atticus Gore":MAILTO:susanjanemcculley@gmail.com
END:VEVENT
BEGIN:VEVENT
DTSTART;TZID=America/New_York:20240921T173000
DTEND;TZID=America/New_York:20240921T220000
DTSTAMP:20260419T091538
CREATED:20240904T151648Z
LAST-MODIFIED:20240912T210430Z
UID:8178-1726939800-1726956000@cvilledems.org
SUMMARY:SwingLeft Democratic Fundraiser (9/21/24)
DESCRIPTION:Join us Saturday\, 9/21 at 5:30 pm for a Democratic fundraiser at The Opal Lounge (above the Mockingbird restaurant in downtown Belmont). \nTicketing\n\nAfter you register\, you will need to submit a $100 donation to Swing Left to confirm your ticket. You can make that donation here.\nPlease email nicole@thelocal-cville.com a copy of your donation receipt to finalize.\n\nDetails\n\nMusic by the Jen Tal Band\nFood by the Local Catering\nSpeaker line-up and full event schedule to be announced\nTickets are limited! $100 per person\nWhen you sign up and submit a $100 donation\, your ticket will be confirmed on a first-come\, first-served basis.\n\nIf you’re not able to attend\, your $100 donation will support grassroots participation in winning elections for Democrats through Swing Left \nIf you haven’t heard of it\, Swing Left is a national network that helps people find high impact ways to support Democratic candidates. We focus on the most flippable races as an important step towards ensuring the progressive change needed to create a more inclusive and equitable government and society. \nWhen you RSVP\, please include a valid email address and a valid phone number so we can provide updates.
URL:https://cvilledems.org/event/swingleft-democratic-fundraiser-9-21-24/
LOCATION:Mockingbird Restaurant\, 421 Monticello Road\, Charlottesville\, VA\, 22902\, United States
CATEGORIES:Fundraiser
ATTACH;FMTTYPE=image/jpeg:https://cvilledems.org/wp-content/uploads/2024/09/Jen-Tal-band-Democratic-fundraiser-20240921.jpg
ORGANIZER;CN="SwingLeft":MAILTO:team@swingleft.org
END:VEVENT
END:VCALENDAR