BEGIN:VCALENDAR
VERSION:2.0
PRODID:-//Cville Dems - ECPv6.15.20//NONSGML v1.0//EN
CALSCALE:GREGORIAN
METHOD:PUBLISH
X-ORIGINAL-URL:https://cvilledems.org
X-WR-CALDESC:Events for Cville Dems
REFRESH-INTERVAL;VALUE=DURATION:PT1H
X-Robots-Tag:noindex
X-PUBLISHED-TTL:PT1H
BEGIN:VTIMEZONE
TZID:America/New_York
BEGIN:DAYLIGHT
TZOFFSETFROM:-0500
TZOFFSETTO:-0400
TZNAME:EDT
DTSTART:20230312T070000
END:DAYLIGHT
BEGIN:STANDARD
TZOFFSETFROM:-0400
TZOFFSETTO:-0500
TZNAME:EST
DTSTART:20231105T060000
END:STANDARD
BEGIN:DAYLIGHT
TZOFFSETFROM:-0500
TZOFFSETTO:-0400
TZNAME:EDT
DTSTART:20240310T070000
END:DAYLIGHT
BEGIN:STANDARD
TZOFFSETFROM:-0400
TZOFFSETTO:-0500
TZNAME:EST
DTSTART:20241103T060000
END:STANDARD
BEGIN:DAYLIGHT
TZOFFSETFROM:-0500
TZOFFSETTO:-0400
TZNAME:EDT
DTSTART:20250309T070000
END:DAYLIGHT
BEGIN:STANDARD
TZOFFSETFROM:-0400
TZOFFSETTO:-0500
TZNAME:EST
DTSTART:20251102T060000
END:STANDARD
END:VTIMEZONE
BEGIN:VEVENT
DTSTART;TZID=America/New_York:20240910T193000
DTEND;TZID=America/New_York:20240910T223000
DTSTAMP:20260420T124806
CREATED:20240909T115541Z
LAST-MODIFIED:20240909T204455Z
UID:8191-1725996600-1726007400@cvilledems.org
SUMMARY:Presidential Debate Watch Party + Cocktail Party -- both free! (9/10)
DESCRIPTION:The Cville Dems and the Coordinated Campaign are co-sponsoring a debate watch party\, with a preceding cocktail party\, at Fry’s Spring Beach Club on Tuesday evening\, September 10. Both are free:\n\n\n7:30-8:30pm — Cocktail Hour on the Terrace\n8:30-10:30pm — Watch Party in the Ballroom\n\nThis should be a night to remember… do it in good company\, feel free to bring a friend who’s not yet a Dem but maybe is leaning that way (we don’t have the budget for everyone to bring all their friends!).
URL:https://cvilledems.org/event/presidential-debate-watch-party-cocktail-party-both-free-9-10/
LOCATION:Fry’s Spring Beach Club\, 2512 Jefferson Park Ave.\, Charlottesville\, 22903\, United States
CATEGORIES:Candidate Events,Community Event,Internal Party Event
ORGANIZER;CN="Charlottesville Democrats":MAILTO:chairs@cvilledems.org
END:VEVENT
BEGIN:VEVENT
DTSTART;TZID=America/New_York:20240923T183000
DTEND;TZID=America/New_York:20240923T200000
DTSTAMP:20260420T124806
CREATED:20240923T152402Z
LAST-MODIFIED:20240923T152402Z
UID:8276-1727116200-1727121600@cvilledems.org
SUMMARY:Executive Committee Meeting (9/23/24)
DESCRIPTION:The Exec Committee will be meeting this Monday (Sept 23) at 6:30pm in the Jefferson Room at the Jefferson Madison Library. We have LOTS to accomplish\, so we’re asking almost everyone to\, ‘do their homework’\, in order to get through everything on the agenda in a timely manner. Here goes…\n\nPRECINCT CAPTAINS\nPlease come ready with specific answers to these 3 questions:\n\n\nDo you have any resources you need before election day? (signs / literature / plans for a precinct gathering / etc.)\nWhat specific resources (not including volunteers) do you need/want for your election day tables? Do you need a tent? Water cooler? Candy or decorations for your table? Something else? We want each precinct to be able to make the table welcoming and informative\, so let us know what you need.\nHave you started recruiting volunteers yet? What’s the status in terms of human resources? (Jason will be getting out the form for volunteer sign-up)\n\nSUZANNE\, JEREMY\, JASON\nPlease give us updates on status in your area of leadership\, any plans between now and election day\, and any needs you have.\n\nMARY ANN\nPlease give us the Thursday night plan from now till Nov 5. Also\, can you give us an inventory of the following – postcards / stamps / addresses remaining / $ for stamps.\n\nKUSHAAN & FRANCES (+ Will & Suzanne)\nPlease come prepared to introduce yourselves\, give us an update on what you’re doing\, and lay out your plans for the final 6 weeks of the campaign.
URL:https://cvilledems.org/event/executive-committee-meeting-9-23-24/
LOCATION:Central Branch — Jefferson-Madison Regional Library\, 201 E. Market St\, Charlottesville\, VA\, 22902\, United States
CATEGORIES:Executive Committee Meeting,Internal Party Event
ATTACH;FMTTYPE=image/png:https://cvilledems.org/wp-content/uploads/2022/05/clip-art-meeting-lego-people-around-table-OpenClipart-272517.png
ORGANIZER;CN="Charlottesville Democrats":MAILTO:chairs@cvilledems.org
END:VEVENT
END:VCALENDAR