BEGIN:VCALENDAR
VERSION:2.0
PRODID:-//Cville Dems - ECPv6.15.20//NONSGML v1.0//EN
CALSCALE:GREGORIAN
METHOD:PUBLISH
X-WR-CALNAME:Cville Dems
X-ORIGINAL-URL:https://cvilledems.org
X-WR-CALDESC:Events for Cville Dems
REFRESH-INTERVAL;VALUE=DURATION:PT1H
X-Robots-Tag:noindex
X-PUBLISHED-TTL:PT1H
BEGIN:VTIMEZONE
TZID:America/New_York
BEGIN:DAYLIGHT
TZOFFSETFROM:-0500
TZOFFSETTO:-0400
TZNAME:EDT
DTSTART:20230312T070000
END:DAYLIGHT
BEGIN:STANDARD
TZOFFSETFROM:-0400
TZOFFSETTO:-0500
TZNAME:EST
DTSTART:20231105T060000
END:STANDARD
BEGIN:DAYLIGHT
TZOFFSETFROM:-0500
TZOFFSETTO:-0400
TZNAME:EDT
DTSTART:20240310T070000
END:DAYLIGHT
BEGIN:STANDARD
TZOFFSETFROM:-0400
TZOFFSETTO:-0500
TZNAME:EST
DTSTART:20241103T060000
END:STANDARD
BEGIN:DAYLIGHT
TZOFFSETFROM:-0500
TZOFFSETTO:-0400
TZNAME:EDT
DTSTART:20250309T070000
END:DAYLIGHT
BEGIN:STANDARD
TZOFFSETFROM:-0400
TZOFFSETTO:-0500
TZNAME:EST
DTSTART:20251102T060000
END:STANDARD
END:VTIMEZONE
BEGIN:VEVENT
DTSTART;TZID=America/New_York:20241207T110000
DTEND;TZID=America/New_York:20241207T130000
DTSTAMP:20260420T175535
CREATED:20241121T211713Z
LAST-MODIFIED:20241121T214723Z
UID:8394-1733569200-1733576400@cvilledems.org
SUMMARY:Full Committee Meeting (12/7) at the Downtown Library with Cookies & Creigh & Katrina!
DESCRIPTION:Screenshot\nEveryone’s invited to the Full Committee meeting on Saturday\, Dec. 7\, at the Downtown Central Library\, Swanson Room\, 11am-1pm — “Cookies and Conversation” with Senator Creigh Deeds and Delegate Katrina Callsen. If you like\, bring some cookies to exchange (and a container to take some cookies home in too!). Two great Virginia politicians and lots of friends will be there. See the graphic above for full information.
URL:https://cvilledems.org/event/full-committee-meeting-12-7-at-the-downtown-library-with-cookies-creigh-katrina/
LOCATION:Central Branch — Jefferson-Madison Regional Library\, 201 E. Market St\, Charlottesville\, VA\, 22902\, United States
CATEGORIES:Candidate Events,Community Event,Full Committee Meeting
ORGANIZER;CN="Charlottesville Democrats":MAILTO:chairs@cvilledems.org
END:VEVENT
END:VCALENDAR