BEGIN:VCALENDAR
VERSION:2.0
PRODID:-//Cville Dems - ECPv6.15.20//NONSGML v1.0//EN
CALSCALE:GREGORIAN
METHOD:PUBLISH
X-WR-CALNAME:Cville Dems
X-ORIGINAL-URL:https://cvilledems.org
X-WR-CALDESC:Events for Cville Dems
REFRESH-INTERVAL;VALUE=DURATION:PT1H
X-Robots-Tag:noindex
X-PUBLISHED-TTL:PT1H
BEGIN:VTIMEZONE
TZID:America/New_York
BEGIN:DAYLIGHT
TZOFFSETFROM:-0500
TZOFFSETTO:-0400
TZNAME:EDT
DTSTART:20220313T070000
END:DAYLIGHT
BEGIN:STANDARD
TZOFFSETFROM:-0400
TZOFFSETTO:-0500
TZNAME:EST
DTSTART:20221106T060000
END:STANDARD
BEGIN:DAYLIGHT
TZOFFSETFROM:-0500
TZOFFSETTO:-0400
TZNAME:EDT
DTSTART:20230312T070000
END:DAYLIGHT
BEGIN:STANDARD
TZOFFSETFROM:-0400
TZOFFSETTO:-0500
TZNAME:EST
DTSTART:20231105T060000
END:STANDARD
BEGIN:DAYLIGHT
TZOFFSETFROM:-0500
TZOFFSETTO:-0400
TZNAME:EDT
DTSTART:20240310T070000
END:DAYLIGHT
BEGIN:STANDARD
TZOFFSETFROM:-0400
TZOFFSETTO:-0500
TZNAME:EST
DTSTART:20241103T060000
END:STANDARD
END:VTIMEZONE
BEGIN:VEVENT
DTSTART;TZID=America/New_York:20230522T180000
DTEND;TZID=America/New_York:20230522T200000
DTSTAMP:20260419T113237
CREATED:20230512T175030Z
LAST-MODIFIED:20230720T173538Z
UID:6325-1684778400-1684785600@cvilledems.org
SUMMARY:Cville Dems Full Committee Meeting (5/22/2023)
DESCRIPTION:The Full Committee will meet\, weather permitting\, at the Forest Hills Park picnic shelter\, 1000 Forest Hills Park Ave.\, starting at 6pm; the unusual start time gives primary candidates a final Full Committee opportunity to informally meet and chat with members before the primary. Please bring your own chair and an extra if possible. If rain (or snow!) is forecast\, we’ll email everyone to switch to Zoom.\n\nTentative agenda item highlights (after the candidate time ends):\n\n\nAssuming we can get a quorum (so please attend if you can!!)\, vote to amend our bylaws to reflect precinct redistricting necessitated by the 2020 census (details in last month’s newsletter). The proposed amendment language\, with full explanation\, is here.\nVolunteers will be needed to staff current polling places and the two old polling places (Alumni Hall and Tonsler) on Primary Day to answer voters’ questions and thank them for coming out to vote.\nJune 2 Summer Bash Fundraiser report (see below).\nCharlottesville City Council Candidate forum on May 24 (see below).\nJune 26 picnic with Albemarle Dems (see below).\nZoning info forum (see below).
URL:https://cvilledems.org/event/cville-dems-full-committee-meeting/
LOCATION:Forest Hills Park\, 1000 Forest Hills Park Ave.\, Charlottesville\, VA\, 22903\, United States
CATEGORIES:Full Committee Meeting
ORGANIZER;CN="Charlottesville Democrats":MAILTO:chairs@cvilledems.org
END:VEVENT
END:VCALENDAR