BEGIN:VCALENDAR
VERSION:2.0
PRODID:-//Cville Dems - ECPv6.15.20//NONSGML v1.0//EN
CALSCALE:GREGORIAN
METHOD:PUBLISH
X-WR-CALNAME:Cville Dems
X-ORIGINAL-URL:https://cvilledems.org
X-WR-CALDESC:Events for Cville Dems
REFRESH-INTERVAL;VALUE=DURATION:PT1H
X-Robots-Tag:noindex
X-PUBLISHED-TTL:PT1H
BEGIN:VTIMEZONE
TZID:America/New_York
BEGIN:DAYLIGHT
TZOFFSETFROM:-0500
TZOFFSETTO:-0400
TZNAME:EDT
DTSTART:20230312T070000
END:DAYLIGHT
BEGIN:STANDARD
TZOFFSETFROM:-0400
TZOFFSETTO:-0500
TZNAME:EST
DTSTART:20231105T060000
END:STANDARD
BEGIN:DAYLIGHT
TZOFFSETFROM:-0500
TZOFFSETTO:-0400
TZNAME:EDT
DTSTART:20240310T070000
END:DAYLIGHT
BEGIN:STANDARD
TZOFFSETFROM:-0400
TZOFFSETTO:-0500
TZNAME:EST
DTSTART:20241103T060000
END:STANDARD
BEGIN:DAYLIGHT
TZOFFSETFROM:-0500
TZOFFSETTO:-0400
TZNAME:EDT
DTSTART:20250309T070000
END:DAYLIGHT
BEGIN:STANDARD
TZOFFSETFROM:-0400
TZOFFSETTO:-0500
TZNAME:EST
DTSTART:20251102T060000
END:STANDARD
END:VTIMEZONE
BEGIN:VEVENT
DTSTART;TZID=America/New_York:20240607T180000
DTEND;TZID=America/New_York:20240607T200000
DTSTAMP:20260420T093615
CREATED:20240525T142901Z
LAST-MODIFIED:20240604T192523Z
UID:7614-1717783200-1717790400@cvilledems.org
SUMMARY:June 7 Cville Dems Summer Bash is nearly here: Silent Auction\, Live Music\, and more!
DESCRIPTION:Our third annual Summer Bash is coming soon Friday\, June 7\, 6-8pm\, on the lawn of the Jefferson School African American Heritage Center at 233 4th Street NW\, Charlottesville\, VA 22903-4593\, (with a rain date of Saturday\, June 8\, 6:30-8:30pm\, inside the Carver Recreation Center (same building as the Jefferson School). \nSponsorships and tickets are still available. Our goal is to raise $20\,000 and we still need $4\,000 more to reach that goal. \nFull info is at the registration page:\nhttps://cvilledems.org/event/2024-cville-dems-summer-bash-june-7-6-8pm/ \nOur guest speaker will be Dr. Cameron Webb\, plus appearances by our 5th District Candidates\, Paul Riley\, Gary Terry\, and Gloria Witt\, and State Senator Creigh Deeds and State Delegate Katrina Callsen. \nBrought back by popular demand\, there will be some live music and a silent auction. Silent auction items include a scone-making workshop with Minhee and Josh Throneburg\, computer help with Kendall Dawes\, genealogical help from Mike Cameron\, movie nights at the home of Fred and Nancy Damon\, plus more to come. Many of the auction items will be sign-ups\, so a number of people can enjoy each fun event. \nThe Soul Food Joint will provide a chicken dinner option and Pearl Island Catering will provide a vegetarian option; we’ll send out an email to confirm which option you’re choosing. We’ll need help with set-up; putting tablecloths on already set-up tables\, checking in attendees\, and hypers to drum up enthusiasm for the silent auction items and events. Please email Nancy Damon at nancycdamon@gmail.com if you can help. \nDetails\, including food options and ticket and sponsorship cost levels and access\, are at the link above. \nPlease support and attend this community-building event. We can have a lot of fun while we do vital work to elect candidates who will work positively towards the future of our democracy. Consider a sponsorship\, buying tickets for friends and family\, or coming solo and meet like-minded Dems. You may even get inspired to join one of our volunteer teams! \nTo help with planning purposes\, please purchase your tickets and sponsorships as soon as possible! \n 
URL:https://cvilledems.org/event/2024-cville-dems-summer-bash-june-7-6-8pm/
LOCATION:Jefferson School African American Heritage Center\, 2nd floor (JSAAHC)\, 233 4th Street NW\, Charlottesville\, VA\, 22903\, United States
CATEGORIES:Community Event,Internal Party Event
ATTACH;FMTTYPE=image/jpeg:https://cvilledems.org/wp-content/uploads/2024/04/Summer-Bash-graphic.jpg
ORGANIZER;CN="Charlottesville Democrats":MAILTO:chairs@cvilledems.org
END:VEVENT
END:VCALENDAR