BEGIN:VCALENDAR
VERSION:2.0
PRODID:-//Cville Dems - ECPv6.15.20//NONSGML v1.0//EN
CALSCALE:GREGORIAN
METHOD:PUBLISH
X-ORIGINAL-URL:https://cvilledems.org
X-WR-CALDESC:Events for Cville Dems
REFRESH-INTERVAL;VALUE=DURATION:PT1H
X-Robots-Tag:noindex
X-PUBLISHED-TTL:PT1H
BEGIN:VTIMEZONE
TZID:America/New_York
BEGIN:DAYLIGHT
TZOFFSETFROM:-0500
TZOFFSETTO:-0400
TZNAME:EDT
DTSTART:20230312T070000
END:DAYLIGHT
BEGIN:STANDARD
TZOFFSETFROM:-0400
TZOFFSETTO:-0500
TZNAME:EST
DTSTART:20231105T060000
END:STANDARD
BEGIN:DAYLIGHT
TZOFFSETFROM:-0500
TZOFFSETTO:-0400
TZNAME:EDT
DTSTART:20240310T070000
END:DAYLIGHT
BEGIN:STANDARD
TZOFFSETFROM:-0400
TZOFFSETTO:-0500
TZNAME:EST
DTSTART:20241103T060000
END:STANDARD
BEGIN:DAYLIGHT
TZOFFSETFROM:-0500
TZOFFSETTO:-0400
TZNAME:EDT
DTSTART:20250309T070000
END:DAYLIGHT
BEGIN:STANDARD
TZOFFSETFROM:-0400
TZOFFSETTO:-0500
TZNAME:EST
DTSTART:20251102T060000
END:STANDARD
END:VTIMEZONE
BEGIN:VEVENT
DTSTART;TZID=America/New_York:20240609T153000
DTEND;TZID=America/New_York:20240609T170000
DTSTAMP:20260420T093800
CREATED:20240525T133403Z
LAST-MODIFIED:20240604T191223Z
UID:7705-1717947000-1717952400@cvilledems.org
SUMMARY:"Democracy on Tap" Avery Chenoweth on our local Latino Community
DESCRIPTION:Our June monthly “Democracy on Tap” event will feature Avery Chenoweth\, author and documentarian\, who will talk about the Latino community in Charlottesville. He was executive producer for the new bilingual documentary\, “Sometime\, Somewhere/Algún día\, en algún lugar\,” by local (Argentinian-native) director Ricardo Preve. Avery is also a Spanish interpreter for Habitat for Humanity International and a volunteer with Sin Barreras. Sunday\, June 9\, 3:30pm\, at Kardinal Hall.
URL:https://cvilledems.org/event/democracy-on-tap-avery-chenoweth-on-our-local-latino-community/
LOCATION:Kardinal Hall\, 722 Preston Ave #101\, Charlottesville\, VA\, 22903\, United States
CATEGORIES:Internal Party Event
ATTACH;FMTTYPE=image/jpeg:https://cvilledems.org/wp-content/uploads/2024/05/Avery_Chenoweth_1517761177786.jpeg
ORGANIZER;CN="Charlottesville Democrats":MAILTO:chairs@cvilledems.org
END:VEVENT
END:VCALENDAR