BEGIN:VCALENDAR
VERSION:2.0
PRODID:-//Cville Dems - ECPv6.15.20//NONSGML v1.0//EN
CALSCALE:GREGORIAN
METHOD:PUBLISH
X-ORIGINAL-URL:https://cvilledems.org
X-WR-CALDESC:Events for Cville Dems
REFRESH-INTERVAL;VALUE=DURATION:PT1H
X-Robots-Tag:noindex
X-PUBLISHED-TTL:PT1H
BEGIN:VTIMEZONE
TZID:America/New_York
BEGIN:DAYLIGHT
TZOFFSETFROM:-0500
TZOFFSETTO:-0400
TZNAME:EDT
DTSTART:20230312T070000
END:DAYLIGHT
BEGIN:STANDARD
TZOFFSETFROM:-0400
TZOFFSETTO:-0500
TZNAME:EST
DTSTART:20231105T060000
END:STANDARD
BEGIN:DAYLIGHT
TZOFFSETFROM:-0500
TZOFFSETTO:-0400
TZNAME:EDT
DTSTART:20240310T070000
END:DAYLIGHT
BEGIN:STANDARD
TZOFFSETFROM:-0400
TZOFFSETTO:-0500
TZNAME:EST
DTSTART:20241103T060000
END:STANDARD
BEGIN:DAYLIGHT
TZOFFSETFROM:-0500
TZOFFSETTO:-0400
TZNAME:EDT
DTSTART:20250309T070000
END:DAYLIGHT
BEGIN:STANDARD
TZOFFSETFROM:-0400
TZOFFSETTO:-0500
TZNAME:EST
DTSTART:20251102T060000
END:STANDARD
END:VTIMEZONE
BEGIN:VEVENT
DTSTART;TZID=America/New_York:20240714T130000
DTEND;TZID=America/New_York:20240714T160000
DTSTAMP:20260420T110824
CREATED:20240709T020601Z
LAST-MODIFIED:20240709T020601Z
UID:7919-1720962000-1720972800@cvilledems.org
SUMMARY:Charlottesville Canvass Launch with SENATOR TIM KAINE
DESCRIPTION:The Coordinated Campaign would really like to get a big turnout when Sen Tim Kaine comes to join canvassers on Sunday\, July 14; Tim would love to see you there and knock some doors with you!
URL:https://cvilledems.org/event/charlottesville-canvass-launch-with-senator-tim-kaine/
LOCATION:2024 Charlottesville Democratic Coordinated Office\, 1410 Incarnation Dr.\, Suite 203\, Charlottesville\, 22901\, United States
CATEGORIES:Internal Party Event,Outreach (Canvass/PhoneBank)
ATTACH;FMTTYPE=image/png:https://cvilledems.org/wp-content/uploads/2024/07/Charlottesville-Coordinated-Campaign-Office-location-on-map.png
ORGANIZER;CN="Charlottesville Democrats":MAILTO:chairs@cvilledems.org
END:VEVENT
END:VCALENDAR