BEGIN:VCALENDAR
VERSION:2.0
PRODID:-//Cville Dems - ECPv6.15.20//NONSGML v1.0//EN
CALSCALE:GREGORIAN
METHOD:PUBLISH
X-ORIGINAL-URL:https://cvilledems.org
X-WR-CALDESC:Events for Cville Dems
REFRESH-INTERVAL;VALUE=DURATION:PT1H
X-Robots-Tag:noindex
X-PUBLISHED-TTL:PT1H
BEGIN:VTIMEZONE
TZID:America/New_York
BEGIN:DAYLIGHT
TZOFFSETFROM:-0500
TZOFFSETTO:-0400
TZNAME:EDT
DTSTART:20230312T070000
END:DAYLIGHT
BEGIN:STANDARD
TZOFFSETFROM:-0400
TZOFFSETTO:-0500
TZNAME:EST
DTSTART:20231105T060000
END:STANDARD
BEGIN:DAYLIGHT
TZOFFSETFROM:-0500
TZOFFSETTO:-0400
TZNAME:EDT
DTSTART:20240310T070000
END:DAYLIGHT
BEGIN:STANDARD
TZOFFSETFROM:-0400
TZOFFSETTO:-0500
TZNAME:EST
DTSTART:20241103T060000
END:STANDARD
BEGIN:DAYLIGHT
TZOFFSETFROM:-0500
TZOFFSETTO:-0400
TZNAME:EDT
DTSTART:20250309T070000
END:DAYLIGHT
BEGIN:STANDARD
TZOFFSETFROM:-0400
TZOFFSETTO:-0500
TZNAME:EST
DTSTART:20251102T060000
END:STANDARD
BEGIN:DAYLIGHT
TZOFFSETFROM:-0500
TZOFFSETTO:-0400
TZNAME:EDT
DTSTART:20260308T070000
END:DAYLIGHT
BEGIN:STANDARD
TZOFFSETFROM:-0400
TZOFFSETTO:-0500
TZNAME:EST
DTSTART:20261101T060000
END:STANDARD
END:VTIMEZONE
BEGIN:VEVENT
DTSTART;TZID=America/New_York:20241105T183000
DTEND;TZID=America/New_York:20241105T233000
DTSTAMP:20260420T032302
CREATED:20241031T194739Z
LAST-MODIFIED:20241031T194739Z
UID:8363-1730831400-1730849400@cvilledems.org
SUMMARY:Election Night Watch Party (Tuesday 6:30-11:30pm)
DESCRIPTION:Come celebrate all the Dems’ wins\, including Kamala’s historic win\, with the Cville & Albemarle Dems! Kardinal Hall is letting us use the whole restaurant to watch coverage and celebrate the results. 248 years after the Founding Fathers established our great nation\, we’re going to elect our first woman President; what a night it will be!! No fee to enter\, but buying a bit of food and/or drink to support Kardinal Hall is encouraged.
URL:https://cvilledems.org/event/election-night-watch-party-tuesday-630-1130pm/
LOCATION:Kardinal Hall\, 722 Preston Ave #101\, Charlottesville\, VA\, 22903\, United States
CATEGORIES:Cville/Albemarle Dems speaker series,Internal Party Event
ATTACH;FMTTYPE=image/png:https://cvilledems.org/wp-content/uploads/2022/09/celebrating_penguin_party_174108.png
ORGANIZER;CN="Charlottesville Democrats":MAILTO:chairs@cvilledems.org
END:VEVENT
BEGIN:VEVENT
DTSTART;TZID=America/New_York:20241125T183000
DTEND;TZID=America/New_York:20241125T200000
DTSTAMP:20260420T032302
CREATED:20240924T113417Z
LAST-MODIFIED:20241124T130916Z
UID:8279-1732559400-1732564800@cvilledems.org
SUMMARY:Executive Committee Meeting (11/25/24)
DESCRIPTION:Meeting is at Nancy’s house.
URL:https://cvilledems.org/event/executive-committee-meeting-11-25-24-cancelled/
LOCATION:VA
CATEGORIES:Executive Committee Meeting
END:VEVENT
BEGIN:VEVENT
DTSTART;TZID=America/New_York:20241207T110000
DTEND;TZID=America/New_York:20241207T130000
DTSTAMP:20260420T032302
CREATED:20241121T211713Z
LAST-MODIFIED:20241121T214723Z
UID:8394-1733569200-1733576400@cvilledems.org
SUMMARY:Full Committee Meeting (12/7) at the Downtown Library with Cookies & Creigh & Katrina!
DESCRIPTION:Screenshot\nEveryone’s invited to the Full Committee meeting on Saturday\, Dec. 7\, at the Downtown Central Library\, Swanson Room\, 11am-1pm — “Cookies and Conversation” with Senator Creigh Deeds and Delegate Katrina Callsen. If you like\, bring some cookies to exchange (and a container to take some cookies home in too!). Two great Virginia politicians and lots of friends will be there. See the graphic above for full information.
URL:https://cvilledems.org/event/full-committee-meeting-12-7-at-the-downtown-library-with-cookies-creigh-katrina/
LOCATION:Central Branch — Jefferson-Madison Regional Library\, 201 E. Market St\, Charlottesville\, VA\, 22902\, United States
CATEGORIES:Candidate Events,Community Event,Full Committee Meeting
ORGANIZER;CN="Charlottesville Democrats":MAILTO:chairs@cvilledems.org
END:VEVENT
BEGIN:VEVENT
DTSTART;TZID=America/New_York:20250125T140000
DTEND;TZID=America/New_York:20250125T153000
DTSTAMP:20260420T032302
CREATED:20250102T200605Z
LAST-MODIFIED:20250116T213907Z
UID:8435-1737813600-1737819000@cvilledems.org
SUMMARY:Thank You\, Election Campaign Volunteers! A Party for You on Jan. 25
DESCRIPTION:     \nWith gratitude\, Cville Dems are holding a Volunteer Party on Saturday\, Jan. 25\, 1-3pm at Carver Recreation Center. There will be lots of time for socializing\, a lot of good food (think lunch)\, some fun games\, and a chance to sign petitions to get our candidates\, local and statewide\, onto the ballot! \nEveryone who volunteered during the last election campaign is welcome! \n 
URL:https://cvilledems.org/event/thank-you-election-campaign-volunteers-a-party-for-you-on-jan-25/
LOCATION:Carver Recreation Center\, 233 4th Street NW\, Charlottesville\, VA\, United States
CATEGORIES:Full Committee Meeting,Internal Party Event
ATTACH;FMTTYPE=image/png:https://cvilledems.org/wp-content/uploads/2022/09/celebrating_penguin_party_174108.png
ORGANIZER;CN="Charlottesville Democrats":MAILTO:chairs@cvilledems.org
END:VEVENT
BEGIN:VEVENT
DTSTART;TZID=America/New_York:20250127T190000
DTEND;TZID=America/New_York:20250127T203000
DTSTAMP:20260420T032302
CREATED:20250102T203920Z
LAST-MODIFIED:20250102T203920Z
UID:8445-1738004400-1738009800@cvilledems.org
SUMMARY:CANCELLED:  Regular January Monthly Meeting
DESCRIPTION:This meeting is being incorporated into the Campaign Volunteers party on Satuday afternoon January 25.
URL:https://cvilledems.org/event/cancelled-regular-january-monthly-meeting/
LOCATION:VA
CATEGORIES:Full Committee Meeting
END:VEVENT
BEGIN:VEVENT
DTSTART;TZID=America/New_York:20250519T180000
DTEND;TZID=America/New_York:20250519T200000
DTSTAMP:20260420T032302
CREATED:20250430T185952Z
LAST-MODIFIED:20250430T185952Z
UID:8596-1747677600-1747684800@cvilledems.org
SUMMARY:UNUSUAL DATE: Monday\, May 19 is the Full Committee Meeting (not Memorial Day Monday)
DESCRIPTION:
URL:https://cvilledems.org/event/unusual-date-monday-may-19-is-the-full-committee-meeting-not-memorial-day-monday/
LOCATION:VA
CATEGORIES:5th District,Full Committee Meeting
END:VEVENT
END:VCALENDAR